BEGIN:VCALENDAR
VERSION:2.0
PRODID:icalendar-ruby
CALSCALE:GREGORIAN
BEGIN:VEVENT
DTSTAMP:20260412T193615Z
UID:event-occurrence-9d9c2a4a-8472-4893-b68d-75a069bae935-event-a42c049b-ff
 51-49f4-9ed6-bc6aac06f481@termine-e
DTSTART:20260621T103000
DTEND:20260621T000000
CLASS:PUBLIC
DESCRIPTION:Pn. WeidnerMusik: Oesdorfer Posaunenchor
LOCATION:Kaffeehaus im Schloß\, Schloßstraße 13\, 31812\, Bad Pyrmont
SUMMARY:Gottesdienst I Sommerkirche
END:VEVENT
END:VCALENDAR
