BEGIN:VCALENDAR
VERSION:2.0
PRODID:icalendar-ruby
CALSCALE:GREGORIAN
BEGIN:VEVENT
DTSTAMP:20260314T143055Z
UID:event-occurrence-14a589eb-7c90-4014-9695-3f3f84dc27c4-event-a3b727dd-cc
 a5-42c4-86bc-e7e857623e2b@termine-e
DTSTART:20260505T170000
DTEND:20260505T190000
CLASS:PUBLIC
DESCRIPTION:Der erste Konfirmandenunterricht steht ganz im Zeichen des Kenn
 enlernens. Die Konfis lernen sich untereinander\, das Team und den Ablauf 
 des Konfi-Jahres kennen. Gemeinsam sprechen wir darüber\, was sie in der 
 kommenden Zeit erwartet\, welche Themen uns beschäftigen werden und warum
  die Konfi-Zeit für viele Jugendliche eine besondere Phase ist. Dabei geh
 t es auch darum\, als Gruppe zusammenzuwachsen und einen guten\, offenen S
 tart in das gemeinsame Jahr zu finden.
LOCATION:Gemeindehaus der ev.-luth. Kirche St. Marien\, Kirchstraße 4\, 29
 339\, Wathlingen
SUMMARY:KU01: Ein guter Start
END:VEVENT
END:VCALENDAR
