BEGIN:VCALENDAR
VERSION:2.0
PRODID:icalendar-ruby
CALSCALE:GREGORIAN
BEGIN:VEVENT
DTSTAMP:20260409T121025Z
UID:event-occurrence-f2a2dc01-8a0f-4e11-af24-18b4fe5f4b8f-event-a3388bf4-e9
 e0-496a-ab44-9926415bfee0@termine-e
DTSTART:20260504T103000
DTEND:20260508T133000
CLASS:PUBLIC
DESCRIPTION:Einführungslehrgang für Pfarramtssekretär*innen
LOCATION:EBZ Hermannsburg\, Lutterweg 16\, 29320\, Hermannsburg
SUMMARY:"Ich bin neu im Pfarrbüro"
END:VEVENT
END:VCALENDAR
