BEGIN:VCALENDAR
VERSION:2.0
PRODID:icalendar-ruby
CALSCALE:GREGORIAN
BEGIN:VEVENT
DTSTAMP:20260416T035212Z
UID:event-occurrence-d4ad6d52-78f6-4e46-a357-3f961028d8a5-event-a312d5b2-84
 36-4080-b8da-2c21794adcbd@termine-e
DTSTART:20260927T170000
DTEND:20260927T000000
CLASS:PUBLIC
DESCRIPTION:Gottesdienst von Jugendlichen für Konfis und alle Interessiert
 en!Komm vorbei und erlebe Musik\, Themen für junge Menschen und Konfis au
 s vielen verschiedenen Gemeinden!
LOCATION:St. Dionysius Kirche in Steimbke\, Kirchstraße 8\, 31634\, Steimb
 ke
SUMMARY:Konfigottesdienst
END:VEVENT
END:VCALENDAR
