BEGIN:VCALENDAR
VERSION:2.0
PRODID:icalendar-ruby
CALSCALE:GREGORIAN
BEGIN:VEVENT
DTSTAMP:20260314T143853Z
UID:event-occurrence-d5540fb2-0c39-4e03-a0a7-23d5727a52d0-event-a2de051f-c5
 bd-40d6-8e5f-23eea44191a3@termine-e
DTSTART:20270112T170000
DTEND:20270112T190000
CLASS:PUBLIC
DESCRIPTION:In dieser Einheit beschäftigen sich die Konfis mit der Jahresl
 osung für das Jahr 2027. Gemeinsam schauen wir uns den Bibelvers genauer 
 an und überlegen\, was seine Aussage für unser Leben und unseren Glauben
  bedeuten kann. Dabei entdecken die Jugendlichen\, wie ein einzelner Bibel
 vers zum Nachdenken anregen und Orientierung im Alltag geben kann.
LOCATION:Gemeindehaus der ev.-luth. Kirche St. Marien\, Kirchstraße 4\, 29
 339\, Wathlingen
SUMMARY:KU14: Jahreslosung 2027
END:VEVENT
END:VCALENDAR
