BEGIN:VCALENDAR
VERSION:2.0
PRODID:icalendar-ruby
CALSCALE:GREGORIAN
BEGIN:VEVENT
DTSTAMP:20260420T103723Z
UID:event-occurrence-a70ca2af-fd03-4e46-b4bf-e95bcc6a6de1-event-a27cdeac-e5
 30-4897-88e7-3d1f5c59a7e0@termine-e
DTSTART:20260425T110000
DTEND:20260425T000000
CLASS:PUBLIC
LOCATION:St. Katharinen\, An der Katharinenkirche 8\, 49074\, Osnabrück
SUMMARY:Taufgottesdienst\, Pastorin Andrea Kruckemeyer\, Ordtrud Lehmann (O
 rgel)
END:VEVENT
END:VCALENDAR
