BEGIN:VCALENDAR
VERSION:2.0
PRODID:icalendar-ruby
CALSCALE:GREGORIAN
BEGIN:VEVENT
DTSTAMP:20260413T070108Z
UID:event-occurrence-7fd2a0cd-81d9-4f12-bcfb-2d6c5e76b24d-event-a2002d8d-67
 7c-40e0-9758-d301cfd08d57@termine-e
DTSTART:20260813T081500
DTEND:20260813T000000
CLASS:PUBLIC
DESCRIPTION:Pfarrer Stefan Schiller
LOCATION:St. Georg\, Bathildisstraße 16\, 31812\, Bad Pyrmont
SUMMARY:Ökumenischer Gottesdienst zum Schuljahresbeginn
END:VEVENT
END:VCALENDAR
