BEGIN:VCALENDAR
VERSION:2.0
PRODID:icalendar-ruby
CALSCALE:GREGORIAN
BEGIN:VEVENT
DTSTAMP:20260401T094826Z
UID:event-occurrence-d35e6604-fd28-4531-9292-378b0a98c8fb-event-a1ed2954-c1
 30-444e-9550-6cd332df3016@termine-e
DTSTART:20260514T103000
DTEND:20260514T000000
CLASS:PUBLIC
DESCRIPTION:mit dem Posaunenchor
LOCATION:Grünfläche vor dem Gemeindehaus Otterndorf\, Himmelreich 4\, 217
 62\, Otterndorf
SUMMARY:Freiluftfamilienkirche zu Christi Himmelfahrt an St. Severi Otternd
 orf
END:VEVENT
END:VCALENDAR
