BEGIN:VCALENDAR
VERSION:2.0
PRODID:icalendar-ruby
CALSCALE:GREGORIAN
BEGIN:VEVENT
DTSTAMP:20260327T122959Z
UID:event-occurrence-86e6ee95-293e-4ed3-8420-c133ccde9df1-event-a1e80ef1-04
 06-4bfe-81b3-3f36cb75185e@termine-e
DTSTART:20260527T130000
DTEND:20260527T000000
CLASS:PUBLIC
DESCRIPTION:30 Minuten Gebet\, geistlicher Impuls &amp\; OrgelmusikPastorin
  i.R. Ute Neveling-Wienkamp | Andreas Schmidt\, Orgel
LOCATION:Marktkirche Hannover\, Hanns-Lilje-Platz 2\, 30159\, Hannover
SUMMARY:Ökumenisches Mittagsgebet
END:VEVENT
END:VCALENDAR
