BEGIN:VCALENDAR
VERSION:2.0
PRODID:icalendar-ruby
CALSCALE:GREGORIAN
BEGIN:VEVENT
DTSTAMP:20260401T095400Z
UID:event-occurrence-59beec1a-5f5a-45ea-a5c7-f660e08b6421-event-a14541fb-72
 a1-4925-bec6-8df04ba95c60@termine-e
DTSTART:20260711T180000
DTEND:20260711T000000
CLASS:PUBLIC
DESCRIPTION:Werke von Gesualdo\, Frescobaldi\, Buxtehude und Bach
LOCATION:Marktkirche Hannover\, Hanns-Lilje-Platz 2\, 30159\, Hannover
SUMMARY:Orgelkonzert: Léon Berben (Leiden)
END:VEVENT
END:VCALENDAR
