BEGIN:VCALENDAR
VERSION:2.0
PRODID:icalendar-ruby
CALSCALE:GREGORIAN
BEGIN:VEVENT
DTSTAMP:20260314T143201Z
UID:event-occurrence-717b6251-818a-4182-8247-baba4b93dd51-event-a10b1d5a-36
 a6-4b08-bbbb-78e78d00fdcb@termine-e
DTSTART:20260512T170000
DTEND:20260512T190000
CLASS:PUBLIC
DESCRIPTION:In dieser Einheit entdecken die Konfis ihre eigene Kirche vor O
 rt. Bei einer kleinen Kirchenrallye erkunden sie gemeinsam die St.-Marien-
 Kirche und lernen wichtige Orte und Gegenstände im Kirchenraum kennen. Da
 bei erfahren sie\, welche Bedeutung zum Beispiel Altar\, Kanzel oder Taufb
 ecken haben. Gleichzeitig werfen wir einen Blick auf das Kirchenjahr und s
 eine wichtigsten Feste – von Advent und Weihnachten bis Ostern und Pfing
 sten – und entdecken\, wie diese den Rhythmus des kirchlichen Lebens p..
 .
LOCATION:Gemeindehaus der ev.-luth. Kirche St. Marien\, Kirchstraße 4\, 29
 339\, Wathlingen
SUMMARY:KU02: Meine Kirche / Das Kirchenjahr
END:VEVENT
END:VCALENDAR
