BEGIN:VCALENDAR
VERSION:2.0
PRODID:icalendar-ruby
CALSCALE:GREGORIAN
BEGIN:VEVENT
DTSTAMP:20260420T084853Z
UID:event-occurrence-91190a05-088e-48ab-bfc8-cd561ab4c9c7-event-a0d87d71-33
 6d-4291-9fe0-9c72ee14485d@termine-e
DTSTART:20260426T100000
DTEND:20260426T000000
CLASS:PUBLIC
DESCRIPTION:Mit Pastor Andreas Maack und Diakon Manfred Ahlers
LOCATION:St. Fabian-Kirche Ringstedt\, Am Osterkamp 8\, 27624\, Geestland-B
 ederkesa
SUMMARY:Ev.-luth. Konfirmation I in Ringstedt
END:VEVENT
END:VCALENDAR
