BEGIN:VCALENDAR
VERSION:2.0
PRODID:icalendar-ruby
CALSCALE:GREGORIAN
BEGIN:VEVENT
DTSTAMP:20260328T095050Z
UID:event-occurrence-3d11704b-87b2-48ed-87f4-68bc333a09e3-event-a033fa41-d2
 b0-4aee-b5bc-8bee175b2c18@termine-e
DTSTART:20260503T103000
DTEND:20260503T000000
CLASS:PUBLIC
DESCRIPTION:Musik: Wolfgang Schattler
LOCATION:Stadtteilzentrum Stöcken\, Eichsfelder Str. 101\, 30419\, Hannove
 r
SUMMARY:Gottesdienst
END:VEVENT
END:VCALENDAR
