BEGIN:VCALENDAR
VERSION:2.0
PRODID:icalendar-ruby
CALSCALE:GREGORIAN
BEGIN:VEVENT
DTSTAMP:20260314T135913Z
UID:event-occurrence-dfb67716-5f95-43a2-a486-d26866f34f77-event-a0011b3c-9b
 52-46cf-bf38-cd6f77fa2345@termine-e
DTSTART:20260527T093000
DTEND:20260527T000000
CLASS:PUBLIC
LOCATION:Lukaskirche\, Schlesierstr. 5\, 31139\, Hildesheim
SUMMARY:Themenfrühstück: Ist es vernünftig\, zu glauben?\, Ref.: Prof. K
 arl-Helge Hupka
END:VEVENT
END:VCALENDAR
