BEGIN:VCALENDAR
VERSION:2.0
PRODID:icalendar-ruby
CALSCALE:GREGORIAN
BEGIN:VEVENT
DTSTAMP:20260323T125253Z
UID:event-occurrence-8d1b1b37-b685-425b-952d-19edcf5c22c7-event-9fa1f395-5e
 82-4642-8c50-065977d28ac6@termine-e
DTSTART:20260419T100000
DTEND:20260419T110000
CLASS:PUBLIC
LOCATION:Burlage - Kirche\, Düversbrucher Straße 4\, 49448\, Hüde
SUMMARY:Festgottesdienst zur Konfirmation\, Abendmahl\, St. Marien-Kirche B
 urlage\, Pastorin Bettina Burkhardt
END:VEVENT
END:VCALENDAR
