BEGIN:VCALENDAR
VERSION:2.0
PRODID:icalendar-ruby
CALSCALE:GREGORIAN
BEGIN:VEVENT
DTSTAMP:20260423T193225Z
UID:event-occurrence-f677196a-8756-4c10-b09a-a389167e8f1e-event-9f08ddbe-ab
 3a-4fa6-a02c-3027cae10b1a@termine-e
DTSTART:20260425T150000
DTEND:20260425T000000
CLASS:PUBLIC
DESCRIPTION:Leitung: Pastor Nickel
LOCATION:St. Dionysius-Kirche Bad Fallingbostel\, Kirchplatz 9b\, 29683\, B
 ad Fallingbostel
SUMMARY:Konfirmation mit Popchor in Bad Fallingbostel
END:VEVENT
END:VCALENDAR
