BEGIN:VCALENDAR
VERSION:2.0
PRODID:icalendar-ruby
CALSCALE:GREGORIAN
BEGIN:VEVENT
DTSTAMP:20260328T121339Z
UID:event-occurrence-d7c61e35-a8b6-41e0-a34e-622713fda53c-event-9f065a12-bf
 1e-43a6-a3eb-67beb268c317@termine-e
DTSTART:20260810T000000
DTEND:20260810T000000
CLASS:PUBLIC
DESCRIPTION:Im Sommer wird es eine Kinderdisko geben. In diesem Jahr erst f
 ür jüngere und etwas später dann für ältere Kinder (ab Grundschulalte
 r).Mo.\, 10. August 2026 Freut euch außerdem auf kreative Angebote für d
 ie Nachbarschaft und ein sportliches Angebot. Das alles im nächsten Flyer
 \, der Ende Mai erscheint.
LOCATION:
SUMMARY:Save the Date
END:VEVENT
END:VCALENDAR
