BEGIN:VCALENDAR
VERSION:2.0
PRODID:icalendar-ruby
CALSCALE:GREGORIAN
BEGIN:VEVENT
DTSTAMP:20260408T195104Z
UID:event-occurrence-a86b6561-9814-4d76-bfaa-77648a4c4148-event-9dfa8090-34
 2c-43ea-99e8-23c17c93292f@termine-e
DTSTART:20260509T090000
DTEND:20260509T123000
CLASS:PUBLIC
DESCRIPTION:Neue Vorkonfirmandengruppe
LOCATION:Gemeindehaus\, Hauptstraße 10\, 27404\, Rhade
SUMMARY:Vorkonfirmandenunterricht
END:VEVENT
END:VCALENDAR
