BEGIN:VCALENDAR
VERSION:2.0
PRODID:icalendar-ruby
CALSCALE:GREGORIAN
BEGIN:VEVENT
DTSTAMP:20260421T134339Z
UID:event-occurrence-645b8da7-3c8b-472a-b471-3180d2affeea-event-9d762f2b-12
 69-4d8c-9cf0-1e27ceae6cad@termine-e
DTSTART:20260517T180000
DTEND:20260517T000000
CLASS:PUBLIC
LOCATION:Kapelle Jeetzel\, Kapellenstieg\, 29439\, Jeetzel
SUMMARY:Taizé-Gottesdienst – Pn. Meinhardt und Petra Jäkel
END:VEVENT
END:VCALENDAR
