BEGIN:VCALENDAR
VERSION:2.0
PRODID:icalendar-ruby
CALSCALE:GREGORIAN
BEGIN:VEVENT
DTSTAMP:20260303T091946Z
UID:event-occurrence-2a92f430-a6e1-4128-bea8-42e459a7afff-event-9d71676e-52
 b6-4a97-b376-003efca87a22@termine-e
DTSTART:20260315T110000
DTEND:20260315T000000
CLASS:PUBLIC
LOCATION:Steinhorst\, St. Georgs-Kirche\, Brauelweg 2\, 29367\, Steinhorst
SUMMARY:Gottesdienst
END:VEVENT
END:VCALENDAR
