BEGIN:VCALENDAR
VERSION:2.0
PRODID:icalendar-ruby
CALSCALE:GREGORIAN
BEGIN:VEVENT
DTSTAMP:20260320T153218Z
UID:event-occurrence-38e6d4e4-e53d-4cb0-8355-7283ffd55afc-event-9d355c41-65
 5e-4a11-aba0-6237517c4c38@termine-e
DTSTART:20260425T070000
DTEND:20260425T200000
CLASS:PUBLIC
DESCRIPTION:Du hast Lust auf einen Tag voller Action\, Achterbahnen und Gem
 einschaft?Dann komm mit uns in den Heide Park Soltau!📍 Treffpunkt: 07:2
 0 Uhr – Bahnhof Celle (Gleis 6/7)🚆 Gemeinsame An- und Abreise mit der
  Bahn (verpflichtend)💰 Eintritt kostenlos💡 Hinweis:Das Zugticket mus
 s selbst organisiert werden (z. B. Niedersachsenticket – gemeinsam deutl
 ich günstiger).👥 Die Plätze sind begrenzt – eine frühzeitige Anmel
 dung wird empfohlen.🕘 Anmeldung möglich vom 01.04.2026\, 09:00 Uhr bis
  20.04.2026\, 12:00 U...
LOCATION:
SUMMARY:Ausflug in den Heide Park Soltau
END:VEVENT
END:VCALENDAR
