BEGIN:VCALENDAR
VERSION:2.0
PRODID:icalendar-ruby
CALSCALE:GREGORIAN
BEGIN:VEVENT
DTSTAMP:20260326T091715Z
UID:event-occurrence-0b9ae254-b0d3-4431-96cf-c7dbfb02d798-event-9cbaca75-36
 ca-446d-b6cd-42b8c21c6b2c@termine-e
DTSTART:20260525T110000
DTEND:20260525T000000
CLASS:PUBLIC
DESCRIPTION:mit Pastorin Julius und Team.Live-Musik von deLight --- Bratwur
 st vom Grill --- Kaffee und KuchenBei starkem Regen findet der Gottesdiens
 t um 11.15 Uhr in der Horster Kirche statt.
LOCATION:Hof Bothe\, Schützenstr. 57A\, 30826\, Garbsen / Meyenfeld
SUMMARY:Pfingstgottesdienst auf dem Hof Bothe in Meyenfeld
END:VEVENT
END:VCALENDAR
