BEGIN:VCALENDAR
VERSION:2.0
PRODID:icalendar-ruby
CALSCALE:GREGORIAN
BEGIN:VEVENT
DTSTAMP:20260314T143819Z
UID:event-occurrence-9f9f1cfb-2ad8-497e-b30e-1751045e0be5-event-9c713c0f-19
 5a-4a72-8a9d-51877c37fb45@termine-e
DTSTART:20261201T170000
DTEND:20261201T190000
CLASS:PUBLIC
DESCRIPTION:In dieser Einheit setzen wir uns weiter mit der Person Jesu aus
 einander. Gemeinsam schauen wir einen weiteren Abschnitt des Films Die Bib
 el – Jesus und begleiten Jesus in seinem Wirken unter den Menschen. Dabe
 i geht es um seine Botschaft\, seine Gleichnisse und darum\, wie er den Me
 nschen begegnet ist.
LOCATION:Gemeindehaus der ev.-luth. Kirche St. Marien\, Kirchstraße 4\, 29
 339\, Wathlingen
SUMMARY:KU12: Jesus II
END:VEVENT
END:VCALENDAR
