BEGIN:VCALENDAR
VERSION:2.0
PRODID:icalendar-ruby
CALSCALE:GREGORIAN
BEGIN:VEVENT
DTSTAMP:20260422T071515Z
UID:event-occurrence-95e2f327-1009-4105-95a1-c2d34225555e-event-9bbdc4b7-3c
 83-4596-b898-f4d44a3ba60d@termine-e
DTSTART:20260502T110000
DTEND:20260502T000000
CLASS:PUBLIC
DESCRIPTION:Konfirmation I mit P. I. Jäckel
LOCATION:Friedenskirche Loga\, Hindenburgstr. 6\, 26789\, Leer
SUMMARY:Konfirmation
END:VEVENT
END:VCALENDAR
