BEGIN:VCALENDAR
VERSION:2.0
PRODID:icalendar-ruby
CALSCALE:GREGORIAN
BEGIN:VEVENT
DTSTAMP:20260328T120140Z
UID:event-occurrence-bd6a03b8-eabd-4778-887d-47f74b1c84c7-event-9b08fce8-cd
 6b-402f-bd10-d051e32903a8@termine-e
DTSTART:20260523T193000
DTEND:20260523T000000
CLASS:PUBLIC
DESCRIPTION:Ob Pictures\, Rummikub\, Parks oder Heckmeck am Bratwurmeck: Wi
 r spielen Gesellschaftsspiele und genießen gemeinsam einen schönen Abend
 . Mitbringen: Eigenes Lieblingsspiel und etwas zum Knabbern
LOCATION:Miriam Schäfer\, Im Sandbrook 22\, 21698\, Harsefeld
SUMMARY:Spieleabend
END:VEVENT
END:VCALENDAR
