BEGIN:VCALENDAR
VERSION:2.0
PRODID:icalendar-ruby
CALSCALE:GREGORIAN
BEGIN:VEVENT
DTSTAMP:20260327T101606Z
UID:event-occurrence-5ba7793a-baa3-4a72-b838-6950170f69ae-event-96cfe523-da
 3a-41a6-9598-e1072a479924@termine-e
DTSTART:20260513T180000
DTEND:20260513T000000
CLASS:PUBLIC
DESCRIPTION:Lebenslieder. Musikalischer Abend mit Fritz Baltruweitund Valen
 tin Brand
LOCATION:St. Lamberti Hildesheim
SUMMARY:Musikalischer Abend - PASSAGE Die Dinge | Das Leben - Fotoausstellu
 ng von Klaus G. Kohn
END:VEVENT
END:VCALENDAR
