BEGIN:VCALENDAR
VERSION:2.0
PRODID:icalendar-ruby
CALSCALE:GREGORIAN
BEGIN:VEVENT
DTSTAMP:20260423T160405Z
UID:event-occurrence-175b4cb6-4380-41c0-9559-0d77be130e66-event-966fd8ba-3d
 0c-4a5f-8c97-f0e6b05a50fb@termine-e
DTSTART:20260510T093000
DTEND:20260510T000000
CLASS:PUBLIC
DESCRIPTION:Am Sonntag Rogate feiern wir Gottesdienst mit Abendmahl mit Pas
 tor Morié.
LOCATION:St. Mauritius-Kirche\, Altenmedingen
SUMMARY:Gottesdienst in Altenmedingen
END:VEVENT
END:VCALENDAR
