BEGIN:VCALENDAR
VERSION:2.0
PRODID:icalendar-ruby
CALSCALE:GREGORIAN
BEGIN:VEVENT
DTSTAMP:20260314T143557Z
UID:event-occurrence-a1be4659-2806-4a27-9c9c-9f6017daf903-event-96046292-b5
 45-45a6-85f9-c56ade79dc59@termine-e
DTSTART:20261006T170000
DTEND:20261006T190000
CLASS:PUBLIC
DESCRIPTION:In dieser Einheit beschäftigen sich die Konfis mit dem Thema S
 chöpfung. Gemeinsam schauen wir auf die biblischen Schöpfungserzählunge
 n und überlegen\, was sie über Gott\, die Welt und den Menschen sagen. D
 abei geht es auch um die Frage\, welche Verantwortung wir für die Schöpf
 ung und den Umgang mit unserer Umwelt haben.
LOCATION:Gemeindehaus der ev.-luth. Kirche St. Marien\, Kirchstraße 4\, 29
 339\, Wathlingen
SUMMARY:KU09: Schöpfung
END:VEVENT
END:VCALENDAR
