BEGIN:VCALENDAR
VERSION:2.0
PRODID:icalendar-ruby
CALSCALE:GREGORIAN
BEGIN:VEVENT
DTSTAMP:20260327T100521Z
UID:event-occurrence-948e6989-da35-44d6-9efe-a21784ef6bf8-event-95d67c6b-82
 e6-4890-9a7e-a9647ae05617@termine-e
DTSTART:20260509T103000
DTEND:20260509T000000
CLASS:PUBLIC
DESCRIPTION:Halbstündige Führung durch die Ausstellung mitKlaus G. Kohn
LOCATION:St. Lamberti Hildesheim
SUMMARY:Führung durch die Ausstellung - PASSAGE Die Dinge | Das Leben - Fo
 toausstellung von Klaus G. Kohn
END:VEVENT
END:VCALENDAR
