BEGIN:VCALENDAR
VERSION:2.0
PRODID:icalendar-ruby
CALSCALE:GREGORIAN
BEGIN:VEVENT
DTSTAMP:20260324T184456Z
UID:event-occurrence-3e38ae96-b979-41a9-88b3-57c8bf3bc15e-event-95937deb-60
 58-4b25-a5a1-fe2c0453878b@termine-e
DTSTART:20260519T150000
DTEND:20260519T000000
CLASS:PUBLIC
DESCRIPTION:Thema: Mai-Lieder\, -Genüsse und -GedankenFrauen jeden Alters 
 sind herzlich eingeladen.
LOCATION:Gemeindehaus Horst\, Andreaestrasse 9\, 30826\, Garbsen / Horst
SUMMARY:Frauen - Café
END:VEVENT
END:VCALENDAR
