BEGIN:VCALENDAR
VERSION:2.0
PRODID:icalendar-ruby
CALSCALE:GREGORIAN
BEGIN:VEVENT
DTSTAMP:20260423T155506Z
UID:event-occurrence-60a7f0f7-dab3-4214-b781-db06c61d43a7-event-954a0b6c-38
 c2-4c12-adc7-a7e37db3528a@termine-e
DTSTART:20260503T110000
DTEND:20260503T000000
CLASS:PUBLIC
DESCRIPTION:Am Sonntag Kantate feiern wir Gottesdienst mit Abendmahl mit Pa
 stor i. R. Schmidt. Anschließend Kirchenkaffee. Der Weltladen ist geöffn
 et.
LOCATION:St. Georgs-Kirche\, Wichmannsburg
SUMMARY:Gottesdienst in Wichmannsburg
END:VEVENT
END:VCALENDAR
