BEGIN:VCALENDAR
VERSION:2.0
PRODID:icalendar-ruby
CALSCALE:GREGORIAN
BEGIN:VEVENT
DTSTAMP:20260313T223418Z
UID:event-occurrence-a2276a85-477d-4ac7-a397-3204c5a8631d-event-9539b261-ad
 58-4e96-9404-89b8cc4ce231@termine-e
DTSTART:20260912T100000
DTEND:20260913T000000
CLASS:PUBLIC
DESCRIPTION:Ein Wochenende mit PopKantor Hauke Nebel im Zeichen der Chormus
 ik\, weil Singen Spaß macht.
LOCATION:Martin-Luther-Kirche\, Lauenbrück
SUMMARY:Chorworkshop
END:VEVENT
END:VCALENDAR
