BEGIN:VCALENDAR
VERSION:2.0
PRODID:icalendar-ruby
CALSCALE:GREGORIAN
BEGIN:VEVENT
DTSTAMP:20260401T075659Z
UID:event-occurrence-1882b309-d0b6-4c1c-aa03-447d04ea637c-event-94f9e7ca-2d
 b0-4490-b0e6-de9f3ba8cde2@termine-e
DTSTART:20260501T180000
DTEND:20260501T000000
CLASS:PUBLIC
DESCRIPTION:Voxorgani\, Henning Stark
LOCATION:Klosterkirche Fredelsloh\, Klosterhof 1\, 37186\, Fredelsloh
SUMMARY:Konzert Gregorianik & Orgel
END:VEVENT
END:VCALENDAR
