BEGIN:VCALENDAR
VERSION:2.0
PRODID:icalendar-ruby
CALSCALE:GREGORIAN
BEGIN:VEVENT
DTSTAMP:20260314T143637Z
UID:event-occurrence-011da5ba-8b1e-439a-b416-33ac4c77dd4b-event-93827fe6-94
 a3-4999-8aba-35965e381631@termine-e
DTSTART:20261110T170000
DTEND:20261110T190000
CLASS:PUBLIC
DESCRIPTION:In dieser Einheit beschäftigen sich die Konfis mit dem Glauben
 sbekenntnis. Gemeinsam schauen wir uns an\, was Christinnen und Christen b
 ekennen\, wenn sie das Glaubensbekenntnis sprechen\, und was die einzelnen
  Aussagen bedeuten. Dabei geht es um zentrale Fragen des christlichen Glau
 bens – um Gott\, Jesus Christus und den Heiligen Geist – und darum\, w
 as dieses Bekenntnis für den eigenen Glauben bedeuten kann.
LOCATION:Gemeindehaus der ev.-luth. Kirche St. Marien\, Kirchstraße 4\, 29
 339\, Wathlingen
SUMMARY:KU10: Glaubensbekenntnis
END:VEVENT
END:VCALENDAR
