BEGIN:VCALENDAR
VERSION:2.0
PRODID:icalendar-ruby
CALSCALE:GREGORIAN
BEGIN:VEVENT
DTSTAMP:20260408T194224Z
UID:event-occurrence-61565818-811b-47d4-a2df-f5633684331e-event-92cd5401-4b
 08-4126-ae0a-f6c1cab916ba@termine-e
DTSTART:20260426T100000
DTEND:20260426T000000
CLASS:PUBLIC
LOCATION:Kirche\, Hauptstraße 12\, 27404\, Rhade
SUMMARY:Konfirmation
END:VEVENT
END:VCALENDAR
