BEGIN:VCALENDAR
VERSION:2.0
PRODID:icalendar-ruby
CALSCALE:GREGORIAN
BEGIN:VEVENT
DTSTAMP:20260328T101003Z
UID:event-occurrence-2fb17946-89f1-428a-bf7a-6d957c5c282f-event-9127583b-f9
 7a-40a7-9a8b-358aee326313@termine-e
DTSTART:20260517T103000
DTEND:20260517T000000
CLASS:PUBLIC
LOCATION:Herrenhäuser Kirche\, Hegebläch 19\, 30419\, Hannover
SUMMARY:Festgottesdienst zur Konfirmation
END:VEVENT
END:VCALENDAR
