BEGIN:VCALENDAR
VERSION:2.0
PRODID:icalendar-ruby
CALSCALE:GREGORIAN
BEGIN:VEVENT
DTSTAMP:20260401T094920Z
UID:event-occurrence-d15d7793-a5a8-4f7f-9cb2-fb728724dc82-event-90d61bc2-b4
 be-4133-8506-539ef9a524b1@termine-e
DTSTART:20260719T120000
DTEND:20260719T000000
CLASS:PUBLIC
DESCRIPTION:30 Minuten Musik an der großen Goll-OrgelBuxtehude | Bach | Ba
 rtók
LOCATION:Marktkirche Hannover\, Hanns-Lilje-Platz 2\, 30159\, Hannover
SUMMARY:Orgelmatinee: Matthias Flierl (Hannover)
END:VEVENT
END:VCALENDAR
