BEGIN:VCALENDAR
VERSION:2.0
PRODID:icalendar-ruby
CALSCALE:GREGORIAN
BEGIN:VEVENT
DTSTAMP:20260407T092419Z
UID:event-occurrence-3d43b16c-3748-40ee-a5a5-7fa09aa82630-event-8fbfde7d-8d
 08-4750-8e29-8fb91bb5f12e@termine-e
DTSTART:20260524T100000
DTEND:20260524T000000
CLASS:PUBLIC
DESCRIPTION:PfingstsonntagGottesdienst mit TaufenLiturg. Leitung: Pastorin 
 Wehmeier
LOCATION:St. Nicolaikirche Wittmund\, Am Kirchplatz 2\, 26409\, Wittmund
SUMMARY:Pfingstgottesdienst mit Taufen
END:VEVENT
END:VCALENDAR
