BEGIN:VCALENDAR
VERSION:2.0
PRODID:icalendar-ruby
CALSCALE:GREGORIAN
BEGIN:VEVENT
DTSTAMP:20260417T215011Z
UID:event-occurrence-a1a8a1b1-9815-4454-9706-84751f0a9ae0-event-8fa8b75b-a0
 7c-403f-91bc-0f1b6b2050d4@termine-e
DTSTART:20261109T173000
DTEND:20261109T210000
CLASS:PUBLIC
DESCRIPTION:Tagesordnung ist noch nicht bekannt. Die Sitzung ist öffentlic
 h und darf besucht werden\, meldet euch dazu gerne bei Berit Busch an.
LOCATION:Gemeindehaus Erichshagen\, Wiesengrund 31\, 31582\, Nienburg
SUMMARY:KKJK Sitzung
END:VEVENT
END:VCALENDAR
