BEGIN:VCALENDAR
VERSION:2.0
PRODID:icalendar-ruby
CALSCALE:GREGORIAN
BEGIN:VEVENT
DTSTAMP:20260419T085829Z
UID:event-occurrence-09401163-f71a-4fb5-8ace-003bf6fa7727-event-8f4c277f-27
 f5-4532-99d3-3528722dc1d1@termine-e
DTSTART:20260507T150000
DTEND:20260507T170000
CLASS:PUBLIC
DESCRIPTION:Die Ev.-luth. Gnadenkirche zum Heiligen Kreuz bietet ab Donners
 tag\, dem 5. Oktober in Kooperation mit der Gemeinwesenarbeit Mittelfeld e
 in Repair Café im Gemeindehaus\, Lehrter Platz 5 an. Immer am 1. Donnerst
 ag im Monat von 15 - 17 Uhr können Besucher mit kaputten Gegenständen in
  das Gemeindehaus kommen\, um sie vor Ort\, gemeinsam mit Reparateuren wie
 der in Ordnung zu bringen.
LOCATION:Ev.-luth. Gnadenkirche zum Heiligen Kreuz\, Lehrter Platz 5\, 3051
 9\, Hannover
SUMMARY:Repair Café
END:VEVENT
END:VCALENDAR
