BEGIN:VCALENDAR
VERSION:2.0
PRODID:icalendar-ruby
CALSCALE:GREGORIAN
BEGIN:VEVENT
DTSTAMP:20260309T092845Z
UID:event-occurrence-21c5e843-565b-4cbd-af60-f1a71b827227-event-8ec2109f-2d
 10-4ab0-a64b-3458b1bfa779@termine-e
DTSTART:20260412T190000
DTEND:20260412T000000
CLASS:PUBLIC
LOCATION:St. Bartholomäus Kirche Dornum\, 26553\, Dornum
SUMMARY:Abend-Gottesdienst
END:VEVENT
END:VCALENDAR
