BEGIN:VCALENDAR
VERSION:2.0
PRODID:icalendar-ruby
CALSCALE:GREGORIAN
BEGIN:VEVENT
DTSTAMP:20260422T211752Z
UID:event-occurrence-d07146ec-d5da-49cc-986b-ecf25c68eced-event-8df0f8e8-a2
 49-43a5-9baa-ee9e0721f9d8@termine-e
DTSTART:20260523T151500
DTEND:20260523T000000
CLASS:PUBLIC
DESCRIPTION:In diesem Workshop lernst du die Basics von Beatbox und wie du 
 mit einer Loopstation eigene Beats und Sounds live aufbaust\, ohne Vorkenn
 tnisse. Jeder Teilnehmende hat im Workshop Gelegenheit mit einem eigenen M
 ikrofon das Erlernte direkt selbst umzusetzen.
LOCATION:Ev.-luth. Paulusgemeinde Melle\, Saarlandstraße 41\, 49324\, Mell
 e
SUMMARY:Vocal-Jam Workshop mit Nhan Gia Vo
END:VEVENT
END:VCALENDAR
