BEGIN:VCALENDAR
VERSION:2.0
PRODID:icalendar-ruby
CALSCALE:GREGORIAN
BEGIN:VEVENT
DTSTAMP:20260323T125252Z
UID:event-occurrence-9ff0dedf-2f70-4451-8e84-bb9c95faa2ba-event-8d5c1e32-bb
 55-4912-9e2f-a94aa08b1a27@termine-e
DTSTART:20260426T100000
DTEND:20260426T110000
CLASS:PUBLIC
LOCATION:Rehden-Hemsloh - Kirche\, Wagenfelder Straße 1\, 49453\, Rehden
SUMMARY:Gottesdienst\, Kirche Rehden\, Pastor Schweitz
END:VEVENT
END:VCALENDAR
