BEGIN:VCALENDAR
VERSION:2.0
PRODID:icalendar-ruby
CALSCALE:GREGORIAN
BEGIN:VEVENT
DTSTAMP:20260413T065915Z
UID:event-occurrence-cc095831-a7b5-4163-bada-0f6b37d1f261-event-8cf557b9-21
 9b-4abe-870d-73f29fc2a0f7@termine-e
DTSTART:20260830T103000
DTEND:20260830T000000
CLASS:PUBLIC
DESCRIPTION:Pn. WeidnerMusik: v. d. Heide und der Musicalchor
LOCATION:St. Johannes-Kirche\, Schulstraße 33\, 31812\, Bad Pyrmont
SUMMARY:Gottesdienst mit dem Musical Mose
END:VEVENT
END:VCALENDAR
