BEGIN:VCALENDAR
VERSION:2.0
PRODID:icalendar-ruby
CALSCALE:GREGORIAN
BEGIN:VEVENT
DTSTAMP:20260420T084602Z
UID:event-occurrence-6b5e977d-8c4d-424a-baa7-a4d4cd3d0b75-event-8cebddac-85
 50-4632-922f-1f0ed346384b@termine-e
DTSTART:20260426T100000
DTEND:20260426T000000
CLASS:PUBLIC
DESCRIPTION:Mit Pastorin Pia Werner
LOCATION:St. Jakobi-Kirche\, Bergstraße 2\, 27624\, Geestland-Bad Bederkes
 a
SUMMARY:Konfirmation III in Bad Bederkesa
END:VEVENT
END:VCALENDAR
