BEGIN:VCALENDAR
VERSION:2.0
PRODID:icalendar-ruby
CALSCALE:GREGORIAN
BEGIN:VEVENT
DTSTAMP:20260329T135424Z
UID:event-occurrence-9b922365-0810-420f-8c4d-dfc49d5dd8a2-event-8babe1de-bc
 53-49e6-a822-8c5393c83543@termine-e
DTSTART:20260422T160000
DTEND:20260422T000000
CLASS:PUBLIC
DESCRIPTION:Du magst nicht gern allein stricken oder häkeln? Dann komm vor
 bei!Wir sind die Strickliesen und treffen uns regelmäßig mittwochs von 1
 6 bis 18 Uhr im „Papphaus“ der Michaeliskirchengemeinde in Ronnenberg 
 (Am Kirchhofe 4e). Die Teilnahme ist kostenlos. Schnapp dir deine Wolle un
 d los geht’s! Wir freuen uns auf dich.Auskunft und Anmeldung: Ramona Rog
 ge\, Tel. 01520 9286870\, E-Mail Roggeramona3@gmail.com
LOCATION:„Papphaus“\, Am Kirchhofe 4e\, 30952\, Ronnenberg
SUMMARY:Strickliesen in Ronnenberg
END:VEVENT
END:VCALENDAR
