BEGIN:VCALENDAR
VERSION:2.0
PRODID:icalendar-ruby
CALSCALE:GREGORIAN
BEGIN:VEVENT
DTSTAMP:20260407T094510Z
UID:event-occurrence-e78e4564-4867-4f75-9d5e-f8fa25db5e5a-event-8b4308cb-87
 f0-4884-971e-00422bbb5f66@termine-e
DTSTART:20260525T090000
DTEND:20260525T000000
CLASS:PUBLIC
DESCRIPTION:PfingstmontagReisesegen an St. Georg\, Eggelingen. - Fahrradtou
 r oder Fahrgemeinschaften zum Gottesdienst und Mühlenfest in Berdum
LOCATION:St. Georgkirche Eggelingen\, Kirchlandweg\, 26409\, Wittmund
SUMMARY:"Kirche unterwegs"
END:VEVENT
END:VCALENDAR
