BEGIN:VCALENDAR
VERSION:2.0
PRODID:icalendar-ruby
CALSCALE:GREGORIAN
BEGIN:VEVENT
DTSTAMP:20260414T060916Z
UID:event-occurrence-29a50241-ac78-42d0-8514-29f8d5938596-event-88c009fd-c1
 47-4c6f-bcb7-ef4ec7f9758c@termine-e
DTSTART:20260621T110000
DTEND:20260621T000000
CLASS:PUBLIC
DESCRIPTION:Regionalbischöfin predigt bei der Veranstaltung Tag im Dorf St
 eenfelde
LOCATION:SUS Steenfelde\, Wanderweg 32\, 26810\, Westoverledingen
SUMMARY:Tag im Dorf Steenfelde
END:VEVENT
END:VCALENDAR
