BEGIN:VCALENDAR
VERSION:2.0
PRODID:icalendar-ruby
CALSCALE:GREGORIAN
BEGIN:VEVENT
DTSTAMP:20260313T082834Z
UID:event-occurrence-33cc04b7-4e22-45ec-997a-b48a105264ff-event-88bea06e-39
 cd-4349-b966-572a5c72f2df@termine-e
DTSTART:20260614T100000
DTEND:20260614T000000
CLASS:PUBLIC
DESCRIPTION:mit Pastorin Conrad
LOCATION:
SUMMARY:Gottesdienst zur Jubiläumskonfirmation in Gilten mit Posaunenchor
END:VEVENT
END:VCALENDAR
