BEGIN:VCALENDAR
VERSION:2.0
PRODID:icalendar-ruby
CALSCALE:GREGORIAN
BEGIN:VEVENT
DTSTAMP:20260423T193603Z
UID:event-occurrence-bff5034d-cc8f-46af-8470-ce658dc9ae3b-event-88ae9b52-02
 df-47e6-b50d-05fde7ed6f11@termine-e
DTSTART:20260426T093000
DTEND:20260426T000000
CLASS:PUBLIC
DESCRIPTION:Leitung: Pastorin Nickel
LOCATION:St. Martinskirche Dorfmark\, Hauptstraße 12\, 29683\, Dorfmark
SUMMARY:Kindergottesdienst ab 6 Jahre in Dorfmark
END:VEVENT
END:VCALENDAR
